BEGIN:VCALENDAR
VERSION:2.0
PRODID:-//CRO Community Foundation - ECPv6.15.20//NONSGML v1.0//EN
CALSCALE:GREGORIAN
METHOD:PUBLISH
X-ORIGINAL-URL:https://crocommunityfoundation.org
X-WR-CALDESC:Events for CRO Community Foundation
REFRESH-INTERVAL;VALUE=DURATION:PT1H
X-Robots-Tag:noindex
X-PUBLISHED-TTL:PT1H
BEGIN:VTIMEZONE
TZID:America/New_York
BEGIN:DAYLIGHT
TZOFFSETFROM:-0500
TZOFFSETTO:-0400
TZNAME:EDT
DTSTART:20250309T070000
END:DAYLIGHT
BEGIN:STANDARD
TZOFFSETFROM:-0400
TZOFFSETTO:-0500
TZNAME:EST
DTSTART:20251102T060000
END:STANDARD
BEGIN:DAYLIGHT
TZOFFSETFROM:-0500
TZOFFSETTO:-0400
TZNAME:EDT
DTSTART:20260308T070000
END:DAYLIGHT
BEGIN:STANDARD
TZOFFSETFROM:-0400
TZOFFSETTO:-0500
TZNAME:EST
DTSTART:20261101T060000
END:STANDARD
BEGIN:DAYLIGHT
TZOFFSETFROM:-0500
TZOFFSETTO:-0400
TZNAME:EDT
DTSTART:20270314T070000
END:DAYLIGHT
BEGIN:STANDARD
TZOFFSETFROM:-0400
TZOFFSETTO:-0500
TZNAME:EST
DTSTART:20271107T060000
END:STANDARD
END:VTIMEZONE
BEGIN:VEVENT
DTSTART;TZID=America/New_York:20260502T120000
DTEND;TZID=America/New_York:20260502T160000
DTSTAMP:20260422T143916
CREATED:20260417T201948Z
LAST-MODIFIED:20260417T201948Z
UID:1863-1777723200-1777737600@crocommunityfoundation.org
SUMMARY:Spring Into Impact: CRO Community Festival
DESCRIPTION:Spring Into Impact is a free\, family-friendly community festival bringing together East Wake families\, local vendors\, and community partners for an afternoon of connection\, wellness\, and fun. \nEnjoy activities for all ages\, including games\, inflatables\, giveaways\, food vendors\, live entertainment\, and community resources. There will truly be something for everyone. \nAll are welcome—bring your family and friends! \n📍 Knightdale Station Park\, 810 N. First Avenue\, Knightdale\, NC 27545\n📅 Saturday\, May 2\, 2026\n⏰ 12:00 PM – 4:00 PM \nDonate & Tickets
URL:https://crocommunityfoundation.org/event/spring-into-impact-cro-community-festival/
LOCATION:Knightdale Station Park\, 810 N. First Avenue\, Knightdale\, NC\, 27545\, United States
END:VEVENT
END:VCALENDAR